BEGIN:VCALENDAR
VERSION:2.0
PRODID:-//Reinhardt University - ECPv6.15.16//NONSGML v1.0//EN
CALSCALE:GREGORIAN
METHOD:PUBLISH
X-ORIGINAL-URL:https://www.reinhardt.edu
X-WR-CALDESC:Events for Reinhardt University
REFRESH-INTERVAL;VALUE=DURATION:PT1H
X-Robots-Tag:noindex
X-PUBLISHED-TTL:PT1H
BEGIN:VTIMEZONE
TZID:America/New_York
BEGIN:DAYLIGHT
TZOFFSETFROM:-0500
TZOFFSETTO:-0400
TZNAME:EDT
DTSTART:20240310T070000
END:DAYLIGHT
BEGIN:STANDARD
TZOFFSETFROM:-0400
TZOFFSETTO:-0500
TZNAME:EST
DTSTART:20241103T060000
END:STANDARD
BEGIN:DAYLIGHT
TZOFFSETFROM:-0500
TZOFFSETTO:-0400
TZNAME:EDT
DTSTART:20250309T070000
END:DAYLIGHT
BEGIN:STANDARD
TZOFFSETFROM:-0400
TZOFFSETTO:-0500
TZNAME:EST
DTSTART:20251102T060000
END:STANDARD
BEGIN:DAYLIGHT
TZOFFSETFROM:-0500
TZOFFSETTO:-0400
TZNAME:EDT
DTSTART:20260308T070000
END:DAYLIGHT
BEGIN:STANDARD
TZOFFSETFROM:-0400
TZOFFSETTO:-0500
TZNAME:EST
DTSTART:20261101T060000
END:STANDARD
END:VTIMEZONE
BEGIN:VEVENT
DTSTART;TZID=America/New_York:20251018T090000
DTEND;TZID=America/New_York:20251018T120000
DTSTAMP:20260422T075305
CREATED:20250715T193441Z
LAST-MODIFIED:20250902T144903Z
UID:30499-1760778000-1760788800@www.reinhardt.edu
SUMMARY:Discover Reinhardt
DESCRIPTION:This is your chance to get a glimpse into life as a student here at Reinhardt University. Meet with our current students\, Deans\, Faculty\, Student Life representatives\, Financial Aid\, Admissions representatives\, clubs\, organizations and more! \nSign Up
URL:https://www.reinhardt.edu/event/discover-reinhardt-3/
LOCATION:Bannister Glasshouse
CATEGORIES:Admissions
ORGANIZER;CN="Admissions":MAILTO:admissions@reinhardt.edu
END:VEVENT
END:VCALENDAR