BEGIN:VCALENDAR
VERSION:2.0
PRODID:-//Reinhardt University - ECPv6.15.16//NONSGML v1.0//EN
CALSCALE:GREGORIAN
METHOD:PUBLISH
X-WR-CALNAME:Reinhardt University
X-ORIGINAL-URL:https://www.reinhardt.edu
X-WR-CALDESC:Events for Reinhardt University
REFRESH-INTERVAL;VALUE=DURATION:PT1H
X-Robots-Tag:noindex
X-PUBLISHED-TTL:PT1H
BEGIN:VTIMEZONE
TZID:America/New_York
BEGIN:DAYLIGHT
TZOFFSETFROM:-0500
TZOFFSETTO:-0400
TZNAME:EDT
DTSTART:20250309T070000
END:DAYLIGHT
BEGIN:STANDARD
TZOFFSETFROM:-0400
TZOFFSETTO:-0500
TZNAME:EST
DTSTART:20251102T060000
END:STANDARD
BEGIN:DAYLIGHT
TZOFFSETFROM:-0500
TZOFFSETTO:-0400
TZNAME:EDT
DTSTART:20260308T070000
END:DAYLIGHT
BEGIN:STANDARD
TZOFFSETFROM:-0400
TZOFFSETTO:-0500
TZNAME:EST
DTSTART:20261101T060000
END:STANDARD
BEGIN:DAYLIGHT
TZOFFSETFROM:-0500
TZOFFSETTO:-0400
TZNAME:EDT
DTSTART:20270314T070000
END:DAYLIGHT
BEGIN:STANDARD
TZOFFSETFROM:-0400
TZOFFSETTO:-0500
TZNAME:EST
DTSTART:20271107T060000
END:STANDARD
END:VTIMEZONE
BEGIN:VEVENT
DTSTART;TZID=America/New_York:20260129T180000
DTEND;TZID=America/New_York:20260129T190000
DTSTAMP:20260419T191202
CREATED:20260127T151204Z
LAST-MODIFIED:20260127T151205Z
UID:32975-1769709600-1769713200@www.reinhardt.edu
SUMMARY:Cybersecurity Webinar
DESCRIPTION:Explore a future in Cybersecurity at Reinhardt University. This webinar introduces prospective students to the Cybersecurity major\, hands-on learning opportunities\, career paths\, and admissions details. Learn how Reinhardt University prepares students for in-demand careers protecting digital systems and data. \nSign Up
URL:https://www.reinhardt.edu/event/cybersecurity-webinar/
CATEGORIES:Admissions,College of Humanities, Sciences, and Technology
END:VEVENT
END:VCALENDAR