BEGIN:VCALENDAR
VERSION:2.0
PRODID:-//Reinhardt University - ECPv6.15.16//NONSGML v1.0//EN
CALSCALE:GREGORIAN
METHOD:PUBLISH
X-WR-CALNAME:Reinhardt University
X-ORIGINAL-URL:https://www.reinhardt.edu
X-WR-CALDESC:Events for Reinhardt University
REFRESH-INTERVAL;VALUE=DURATION:PT1H
X-Robots-Tag:noindex
X-PUBLISHED-TTL:PT1H
BEGIN:VTIMEZONE
TZID:America/New_York
BEGIN:DAYLIGHT
TZOFFSETFROM:-0500
TZOFFSETTO:-0400
TZNAME:EDT
DTSTART:20250309T070000
END:DAYLIGHT
BEGIN:STANDARD
TZOFFSETFROM:-0400
TZOFFSETTO:-0500
TZNAME:EST
DTSTART:20251102T060000
END:STANDARD
BEGIN:DAYLIGHT
TZOFFSETFROM:-0500
TZOFFSETTO:-0400
TZNAME:EDT
DTSTART:20260308T070000
END:DAYLIGHT
BEGIN:STANDARD
TZOFFSETFROM:-0400
TZOFFSETTO:-0500
TZNAME:EST
DTSTART:20261101T060000
END:STANDARD
BEGIN:DAYLIGHT
TZOFFSETFROM:-0500
TZOFFSETTO:-0400
TZNAME:EDT
DTSTART:20270314T070000
END:DAYLIGHT
BEGIN:STANDARD
TZOFFSETFROM:-0400
TZOFFSETTO:-0500
TZNAME:EST
DTSTART:20271107T060000
END:STANDARD
END:VTIMEZONE
BEGIN:VEVENT
DTSTART;TZID=America/New_York:20260314T093000
DTEND;TZID=America/New_York:20260314T123000
DTSTAMP:20260419T155651
CREATED:20251205T183832Z
LAST-MODIFIED:20251205T184216Z
UID:32560-1773480600-1773491400@www.reinhardt.edu
SUMMARY:Discover Reinhardt 3/14
DESCRIPTION:This is your chance to get a glimpse into life as a student here at Reinhardt University. Meet with our current students\, Deans\, Faculty\, Student Life representatives\, Financial Aid\, Admissions representatives\, clubs\, organizations and more!
URL:https://www.reinhardt.edu/event/discover-reinhardt-3-14/
LOCATION:Bannister Glasshouse
CATEGORIES:Admissions
ORGANIZER;CN="Admissions":MAILTO:admissions@reinhardt.edu
END:VEVENT
END:VCALENDAR