BEGIN:VCALENDAR
VERSION:2.0
PRODID:-//Reinhardt University - ECPv6.15.16//NONSGML v1.0//EN
CALSCALE:GREGORIAN
METHOD:PUBLISH
X-WR-CALNAME:Reinhardt University
X-ORIGINAL-URL:https://www.reinhardt.edu
X-WR-CALDESC:Events for Reinhardt University
REFRESH-INTERVAL;VALUE=DURATION:PT1H
X-Robots-Tag:noindex
X-PUBLISHED-TTL:PT1H
BEGIN:VTIMEZONE
TZID:America/New_York
BEGIN:DAYLIGHT
TZOFFSETFROM:-0500
TZOFFSETTO:-0400
TZNAME:EDT
DTSTART:20240310T070000
END:DAYLIGHT
BEGIN:STANDARD
TZOFFSETFROM:-0400
TZOFFSETTO:-0500
TZNAME:EST
DTSTART:20241103T060000
END:STANDARD
BEGIN:DAYLIGHT
TZOFFSETFROM:-0500
TZOFFSETTO:-0400
TZNAME:EDT
DTSTART:20250309T070000
END:DAYLIGHT
BEGIN:STANDARD
TZOFFSETFROM:-0400
TZOFFSETTO:-0500
TZNAME:EST
DTSTART:20251102T060000
END:STANDARD
BEGIN:DAYLIGHT
TZOFFSETFROM:-0500
TZOFFSETTO:-0400
TZNAME:EDT
DTSTART:20260308T070000
END:DAYLIGHT
BEGIN:STANDARD
TZOFFSETFROM:-0400
TZOFFSETTO:-0500
TZNAME:EST
DTSTART:20261101T060000
END:STANDARD
END:VTIMEZONE
BEGIN:VEVENT
DTSTART;TZID=America/New_York:20251211T160000
DTEND;TZID=America/New_York:20251211T183000
DTSTAMP:20260420T012346
CREATED:20251205T210930Z
LAST-MODIFIED:20251205T211316Z
UID:32570-1765468800-1765477800@www.reinhardt.edu
SUMMARY:Cookies and Cocoa Tour
DESCRIPTION:We are excited to offer a Hot Cocoa Bar and guided walking tour of our campus. It’s our pleasure to show some of our featured areas and activities\, and opportunities to speak with members of our Admissions Office. It is our goal to connect your interests to our university and help find the right fit for you. Cart tours are available for those in need so please contact us if you have any questions. \nCookies and Hot Cocoa will be served at 4:15pm\, the tour will begin at 5pm! \nWe can be reached at admissions@reinhardt.edu or 770-720-5526. We look forward to seeing you!
URL:https://www.reinhardt.edu/event/cookies-and-cocoa-tour/
LOCATION:Bannister Glasshouse
CATEGORIES:Admissions
ORGANIZER;CN="Admissions":MAILTO:admissions@reinhardt.edu
END:VEVENT
END:VCALENDAR