BEGIN:VCALENDAR
VERSION:2.0
PRODID:-//Reinhardt University - ECPv6.15.16//NONSGML v1.0//EN
CALSCALE:GREGORIAN
METHOD:PUBLISH
X-WR-CALNAME:Reinhardt University
X-ORIGINAL-URL:https://www.reinhardt.edu
X-WR-CALDESC:Events for Reinhardt University
REFRESH-INTERVAL;VALUE=DURATION:PT1H
X-Robots-Tag:noindex
X-PUBLISHED-TTL:PT1H
BEGIN:VTIMEZONE
TZID:America/New_York
BEGIN:DAYLIGHT
TZOFFSETFROM:-0500
TZOFFSETTO:-0400
TZNAME:EDT
DTSTART:20240310T070000
END:DAYLIGHT
BEGIN:STANDARD
TZOFFSETFROM:-0400
TZOFFSETTO:-0500
TZNAME:EST
DTSTART:20241103T060000
END:STANDARD
BEGIN:DAYLIGHT
TZOFFSETFROM:-0500
TZOFFSETTO:-0400
TZNAME:EDT
DTSTART:20250309T070000
END:DAYLIGHT
BEGIN:STANDARD
TZOFFSETFROM:-0400
TZOFFSETTO:-0500
TZNAME:EST
DTSTART:20251102T060000
END:STANDARD
BEGIN:DAYLIGHT
TZOFFSETFROM:-0500
TZOFFSETTO:-0400
TZNAME:EDT
DTSTART:20260308T070000
END:DAYLIGHT
BEGIN:STANDARD
TZOFFSETFROM:-0400
TZOFFSETTO:-0500
TZNAME:EST
DTSTART:20261101T060000
END:STANDARD
END:VTIMEZONE
BEGIN:VEVENT
DTSTART;TZID=America/New_York:20250921T150000
DTEND;TZID=America/New_York:20250921T163000
DTSTAMP:20260422T075541
CREATED:20250918T165027Z
LAST-MODIFIED:20250918T165028Z
UID:31469-1758466800-1758472200@www.reinhardt.edu
SUMMARY:Guest Recital 9/21
DESCRIPTION:This program explores how African American composers have responded to European classical music by weaving in elements of American folk songs\, spirituals\, blues\, and jazz. Through a fusion of high art poetry and music\, this performance uses vivid imagery to convey the rich and complex African American experience. These songs are meant to resonate with all people\, regardless of race\, nationality\, or background. We present this recital to celebrate and preserve the invaluable contributions of African American composers to American culture and Western art music.
URL:https://www.reinhardt.edu/event/guest-recital-9-21/
LOCATION:Flint Hall\, Falany Performing Arts Center\, 7300 Reinhardt College Circle\, Waleska\, GA\, 30183-2981\, United States
CATEGORIES:Falany Performing Arts Center
ORGANIZER;CN="Falany Performing Arts Center":MAILTO:https://www.reinhardt.edu/falany
END:VEVENT
END:VCALENDAR